BEGIN:VCALENDAR
VERSION:2.0
PRODID:-//URBANFIT ERFURT - ECPv4.9.4//NONSGML v1.0//EN
CALSCALE:GREGORIAN
METHOD:PUBLISH
X-WR-CALNAME:URBANFIT ERFURT
X-ORIGINAL-URL:https://www.urbanfit-erfurt.de
X-WR-CALDESC:Veranstaltungen im URBANFIT ERFURT
BEGIN:VTIMEZONE
TZID:"UTC"
BEGIN:STANDARD
TZOFFSETFROM:+0000
TZOFFSETTO:+0000
TZNAME:UTC
DTSTART:20230101T000000
END:STANDARD
END:VTIMEZONE
BEGIN:VEVENT
DTSTART;TZID="UTC":20230930T093000
DTEND;TZID="UTC":20230930T160000
DTSTAMP:20260420T061523
CREATED:20230904T190519Z
LAST-MODIFIED:20230904T190519Z
UID:45961-1696066200-1696089600@www.urbanfit-erfurt.de
SUMMARY:UrbanFit-Erfurt - on Bike
DESCRIPTION:Liebe UrbanFit Sportis\, \nam Samstag\, den 30.09.2023 schwingen wir uns wieder aufs Bike und treten zum 5. Mal zusammen in die Pedalen. Gemeinsam möchten wir mit euch eine entspannte Tour fahren. Egal ob mit Rennrad\, Mountainbike\, E-Bike oder Damenrad mit Körbchen. Ihr seid alle herzlich dazu eingeladen! \n\nDie FAKTEN: \nWANN: 09:30 Uhr \nWO: Hohenzollernbrücke Erfurt\nABFAHRT: 10:00 Uhr \n\nWir werden an verschiedenen Rastplätzen halten\, sodass ihr euch etwas zu essen kaufen könnt oder euer eigenes\, mitgebrachtes Picknick verzehren könnt…\n\nIhr habt Lust und Zeit\, dann würden wir uns sehr über eure Teilnahme freuen\, die diesmal KOSTENLOS ist! Wir freuen uns auf viele radbegeisterte Sportis und einen wunderschönen GEMEINSAMEN Tag.\n\nTeam @UrbanFit-Erfurt
URL:https://www.urbanfit-erfurt.de/event/urbanfit-erfurt-on-bike-3/
LOCATION:Hohenzollernbrücke (Erfurt)\, Alfred-Hess Straße\, Erfurt\, Thüringen\, Deutschland
END:VEVENT
END:VCALENDAR