BEGIN:VCALENDAR
VERSION:2.0
PRODID:-//URBANFIT ERFURT - ECPv4.9.4//NONSGML v1.0//EN
CALSCALE:GREGORIAN
METHOD:PUBLISH
X-WR-CALNAME:URBANFIT ERFURT
X-ORIGINAL-URL:https://www.urbanfit-erfurt.de
X-WR-CALDESC:Veranstaltungen im URBANFIT ERFURT
BEGIN:VTIMEZONE
TZID:"Europe/Paris"
BEGIN:DAYLIGHT
TZOFFSETFROM:+0100
TZOFFSETTO:+0200
TZNAME:CEST
DTSTART:20190331T010000
END:DAYLIGHT
BEGIN:STANDARD
TZOFFSETFROM:+0200
TZOFFSETTO:+0100
TZNAME:CET
DTSTART:20191027T010000
END:STANDARD
END:VTIMEZONE
BEGIN:VEVENT
DTSTART;TZID="Europe/Paris":20190303T111500
DTEND;TZID="Europe/Paris":20190303T121500
DTSTAMP:20260420T093022
CREATED:20171107T022610Z
LAST-MODIFIED:20190225T054225Z
UID:10126-1551611700-1551615300@www.urbanfit-erfurt.de
SUMMARY:TRX Level I
DESCRIPTION:Du hast dir für das Jahr 2019 viel vorgenommen? Dann komm zum Training mit dem Original TRX Tactical Force.\n\nUrbanFit – Erfurt begleitet Sportler mit dem Original TRX Tactical Force auf dem Weg zu ihrem persönlichen Fitness – Ziel. Der Sling Trainer für Outdoor-Begeisterte vermittelt Dir das Gefühl\, welches Navy Seals haben\, wenn sie sich durch ein hartes Training in der Wüste auf Ihren nächsten Einsatz vorbereiten. Das TRX Tactical Force wurde auf Basis der Anforderungen des US Militärs an Trainingsgeräte entwickelt und ist für höchste Anforderungen und Ansprüche an Material und Performance konzipiert.\n \nMit einer Variationsvielfalt aus über 300 Übungen\, verbessert das Schlingentraining\, mit dem TRX Tactical Force\, Kraft\, Beweglichkeit\, Koordination und fördert gleichzeitig die Rumpfstabilität im hohen Maß. Das TRX Suspension Training ermöglicht in nur 20 Minuten ein funktionelles Ganzkörper – Workout mit hoher Intensität auf jedem Leistungslevel. Neben der deutlichen Verbesserung der koordinativen Fähigkeiten\, aktivieren wir deine Tiefenmuskulatur. Lediglich das eigene Körpergewicht wird beim Training mit dem Sling Trainer als Widerstand eingesetzt.\nDie robuste und wertige Verarbeitung sorgt für ein hohes Maß an Sicherheit\, entgegen den billigen Schlingentrainern aus dem Discounter. \n\nHochwertige Gummigriffe gewährleisten Langlebigkeit und Hygiene des Suspension Trainers.\n\nAlso was brauchst du nun für dein TRX-Workout?\n\n– Trainingsmatte\n– eventuell ein kleines Handtuch\n– Wasser (ohne Kohlensäure)\n\nMaximale Teilnehmerzahl: 6\nPreis pro Person 12\,50 € \n\nFremdtrainern wird die Teilnahme an unserem Kursangebot\, nur nach vorheriger Absprache mit der UrbanFit-Erfurt Geschäftsleitung gestattet!
URL:https://www.urbanfit-erfurt.de/event/trx-level-i-1-0/
LOCATION:Parkstraße 1\, 99096 Erfurt\, Parkstraße 1\, 99096 Erfurt\, Deutschland
ATTACH;FMTTYPE=image/jpeg:https://www.urbanfit-erfurt.de/wp-content/uploads/9c9bcddf6d824494d9c3560bbfe6f6a1.jpg
END:VEVENT
END:VCALENDAR