BEGIN:VCALENDAR
VERSION:2.0
PRODID:-//URBANFIT ERFURT - ECPv4.9.4//NONSGML v1.0//EN
CALSCALE:GREGORIAN
METHOD:PUBLISH
X-WR-CALNAME:URBANFIT ERFURT
X-ORIGINAL-URL:https://www.urbanfit-erfurt.de
X-WR-CALDESC:Veranstaltungen im URBANFIT ERFURT
BEGIN:VTIMEZONE
TZID:"UTC"
BEGIN:STANDARD
TZOFFSETFROM:+0000
TZOFFSETTO:+0000
TZNAME:UTC
DTSTART:20230101T000000
END:STANDARD
END:VTIMEZONE
BEGIN:VEVENT
DTSTART;TZID="UTC":20230820T133000
DTEND;TZID="UTC":20230820T160000
DTSTAMP:20260422T122012
CREATED:20230702T221451Z
LAST-MODIFIED:20230804T212017Z
UID:45683-1692538200-1692547200@www.urbanfit-erfurt.de
SUMMARY:Stand Up Paddling (Geführte SUP-Tour auf fließendem Gewässer)
DESCRIPTION:Stehpaddeln mit UrbanFit-Erfurt Stand-Up-Paddling (SUP)\, auch Stehpaddeln genannt\, ist eine Wassersportart\, bei der der Sportler aufrecht auf einem schwimmfähigen Board (SUP-Board) steht und mit einem Stechpaddel paddelt. \n \nAller Anfang ist schwer? Nicht so beim Stand-Up-Paddeln mit uns! \n \nWas euch erwartet\n– Einweisung an Board und Paddel \n– richtige Paddelhaltung \n– richtige Paddeltechnik \n– richtiger Stand auf dem Board\n\nDAS BESONDERE: Wir paddeln auf fließendem Gewässer und entdecken dabei unsere Umgebung auf neue Art und Sichtweise.\n \nStand-Up-Paddling by UrbanFit Erfurt ist eine Sportart für jeden\, egal welches Alter\, welche Kondition\, ob Frau\, Mann oder Kind. Beim SUP wird jeder Muskel im Körper großflächig beansprucht\, was es zu einer ganzheitlichen und gelenkschonenden Sportart macht. Durch das ständige Ausbalancieren des eigenen Körpers wird auch die Tiefenmuskulatur grundlegend gestärkt. \n \nEine Teilnahme an dem Kurs ist jeweils nur mit vorheriger Anmeldung möglich. \n– Anmeldung ausschließlich gegen VORKASSE. \n– Preis pro Teilnehmer und Board \n55\,00 Euro\n– maximal 6 Personen. \n– Dauer ca.13:30 – 16:00 \n \nWir freuen uns auf eure Teilnahme \nTeam UrbanFit-Erfurt\n\n
URL:https://www.urbanfit-erfurt.de/event/stand-up-paddling-gefuehrte-sup-tour-auf-fliessendem-gewaesser-3/
LOCATION:bft Tankstelle Gebesee\, Siedlungsweg 2\, Gebesee\, Thüringen\, 99189\, Deutschland
END:VEVENT
END:VCALENDAR