BEGIN:VCALENDAR
VERSION:2.0
PRODID:-//URBANFIT ERFURT - ECPv4.9.4//NONSGML v1.0//EN
CALSCALE:GREGORIAN
METHOD:PUBLISH
X-WR-CALNAME:URBANFIT ERFURT
X-ORIGINAL-URL:https://www.urbanfit-erfurt.de
X-WR-CALDESC:Veranstaltungen im URBANFIT ERFURT
BEGIN:VTIMEZONE
TZID:"UTC"
BEGIN:STANDARD
TZOFFSETFROM:+0000
TZOFFSETTO:+0000
TZNAME:UTC
DTSTART:20210101T000000
END:STANDARD
END:VTIMEZONE
BEGIN:VEVENT
DTSTART;TZID="UTC":20210930T180000
DTEND;TZID="UTC":20210930T190000
DTSTAMP:20260424T090159
CREATED:20210916T115408Z
LAST-MODIFIED:20210916T115408Z
UID:42734-1633024800-1633028400@www.urbanfit-erfurt.de
SUMMARY:Sightseeing oder FunctionalFit
DESCRIPTION:Outdoortraining inklusive Sightseeing Level I / II\n\nOb Sightseeing oder Funktionales Training\, die Entscheidung liegt beim Trainer! \n\nUrbanFit-Erfurt macht Dich im Outdoortraining topfit und ganz nebenbei entdecken wir gemeinsam die schönsten Ecken Deiner Stadt! \n\nEine Tolle Kombination!\n\nKomm vorbei und entdecke mit UrbanFit den Spaß am Outdoortraining!\n\nAlso keine Scheu …egal ob jung oder alt\, bereits fit oder noch ein Sportmuffel…unser Training bringt jedermann in Form! \n\nDEINE STADT – DEIN TRAINING \n\n#PersonaltrainerErfurt #PersonaltrainingErfurt
URL:https://www.urbanfit-erfurt.de/event/sightseeing-oder-functionalfit-26/
LOCATION:Gutenberg-Gymnasium\, Gutenbergplatz 6\, Erfurt\, 99092\, Germany
END:VEVENT
END:VCALENDAR