BEGIN:VCALENDAR
VERSION:2.0
PRODID:-//URBANFIT ERFURT - ECPv4.9.4//NONSGML v1.0//EN
CALSCALE:GREGORIAN
METHOD:PUBLISH
X-WR-CALNAME:URBANFIT ERFURT
X-ORIGINAL-URL:https://www.urbanfit-erfurt.de
X-WR-CALDESC:Veranstaltungen im URBANFIT ERFURT
BEGIN:VTIMEZONE
TZID:"Europe/Helsinki"
BEGIN:DAYLIGHT
TZOFFSETFROM:+0200
TZOFFSETTO:+0300
TZNAME:EEST
DTSTART:20190331T010000
END:DAYLIGHT
BEGIN:STANDARD
TZOFFSETFROM:+0300
TZOFFSETTO:+0200
TZNAME:EET
DTSTART:20191027T010000
END:STANDARD
END:VTIMEZONE
BEGIN:VEVENT
DTSTART;TZID="Europe/Helsinki":20190313T173000
DTEND;TZID="Europe/Helsinki":20190313T183000
DTSTAMP:20260423T041403
CREATED:20180318T100056Z
LAST-MODIFIED:20190309T115012Z
UID:14902-1552498200-1552501800@www.urbanfit-erfurt.de
SUMMARY:Sightseeing FunctionalFit Level I / II
DESCRIPTION:Outdoortraining inklusive Sightseeing\n\nUrbanFit-Erfurt macht Dich im Outdoortraining topfit und ganz nebenbei entdecken wir gemeinsam die schönsten Ecken Deiner Stadt!\n\nEine Tolle Kombination!\n\nKomm vorbei und entdecke mit UrbanFit den Spaß am Outdoortraining!\n\nAlso keine Scheu …egal ob jung oder alt\, bereits fit oder noch ein Sportmuffel…unser Training bringt jedermann in Form!\n\nDEINE STADT – DEIN TRAINING\n#PersonaltrainerErfurt #PersonaltrainingErfurt
URL:https://www.urbanfit-erfurt.de/event/sightseeing-functionalfit-level-ii-9/
LOCATION:Theaterplatz 1\, 99084 Erfurt\, Deutschland
ATTACH;FMTTYPE=image/jpeg:https://www.urbanfit-erfurt.de/wp-content/uploads/a083c8a7070aa96d75940fa8c3d90a0f.jpg
END:VEVENT
END:VCALENDAR