BEGIN:VCALENDAR
VERSION:2.0
PRODID:-//URBANFIT ERFURT - ECPv4.9.4//NONSGML v1.0//EN
CALSCALE:GREGORIAN
METHOD:PUBLISH
X-WR-CALNAME:URBANFIT ERFURT
X-ORIGINAL-URL:https://www.urbanfit-erfurt.de
X-WR-CALDESC:Veranstaltungen im URBANFIT ERFURT
BEGIN:VTIMEZONE
TZID:"UTC"
BEGIN:STANDARD
TZOFFSETFROM:+0000
TZOFFSETTO:+0000
TZNAME:UTC
DTSTART:20210101T000000
END:STANDARD
END:VTIMEZONE
BEGIN:VEVENT
DTSTART;TZID="UTC":20211025T183000
DTEND;TZID="UTC":20211025T193000
DTSTAMP:20260422T103059
CREATED:20211011T123855Z
LAST-MODIFIED:20211011T123855Z
UID:42826-1635186600-1635190200@www.urbanfit-erfurt.de
SUMMARY:Sightseeing FunctionalFit Level I / II
DESCRIPTION:Outdoortraining inklusive Sightseeing\n\nUrbanFit-Erfurt macht Dich im Outdoortraining topfit und ganz nebenbei entdecken wir gemeinsam die schönsten Ecken Deiner Stadt! \n\nEine Tolle Kombination!\n\nKomm vorbei und entdecke mit UrbanFit den Spaß am Outdoortraining!\n\nAlso keine Scheu …egal ob jung oder alt\, bereits fit oder noch ein Sportmuffel…unser Training bringt jedermann in Form! \n\nDEINE STADT – DEIN TRAINING \n\n#PersonaltrainerErfurt #PersonaltrainingErfurt
URL:https://www.urbanfit-erfurt.de/event/sightseeing-functionalfit-level-i-ii-219/
LOCATION:P+R Binderslebener Knie\, X2G6+JV Erfurt\, Erfurt\, Thüringen\, 99092\, Deutschland
END:VEVENT
END:VCALENDAR