BEGIN:VCALENDAR
VERSION:2.0
PRODID:-//URBANFIT ERFURT - ECPv4.9.4//NONSGML v1.0//EN
CALSCALE:GREGORIAN
METHOD:PUBLISH
X-WR-CALNAME:URBANFIT ERFURT
X-ORIGINAL-URL:https://www.urbanfit-erfurt.de
X-WR-CALDESC:Veranstaltungen im URBANFIT ERFURT
BEGIN:VTIMEZONE
TZID:"UTC"
BEGIN:STANDARD
TZOFFSETFROM:+0000
TZOFFSETTO:+0000
TZNAME:UTC
DTSTART:20250101T000000
END:STANDARD
END:VTIMEZONE
BEGIN:VEVENT
DTSTART;TZID="UTC":20250915T183000
DTEND;TZID="UTC":20250915T193000
DTSTAMP:20260423T053846
CREATED:20250909T093042Z
LAST-MODIFIED:20250909T093042Z
UID:48654-1757961000-1757964600@www.urbanfit-erfurt.de
SUMMARY:Sightseeing FunctionalFit
DESCRIPTION:Outdoortraining inklusive Sightseeing\n\nUrbanFit-Erfurt macht Dich im Outdoortraining topfit und ganz nebenbei entdecken wir gemeinsam die schönsten Ecken Deiner Stadt! \n\nEine Tolle Kombination!\n\nKomm vorbei und entdecke mit UrbanFit den Spaß am Outdoortraining!\n\nAlso keine Scheu …egal ob jung oder alt\, bereits fit oder noch ein Sportmuffel…unser Training bringt jedermann in Form! \n\nDie Bezahlung erfolgt in bar vor Ort beim jeweiligen Trainer…\nPreis pro Teilnehmer 8\,50 Euro\nEin Kostenloses Probetraining ist nicht möglich.\n\nDEINE STADT – DEIN TRAINING 
URL:https://www.urbanfit-erfurt.de/event/sightseeing-functionalfit-23/
LOCATION:Hohenzollernbrücke (Erfurt)\, Alfred-Hess Straße\, Erfurt\, Thüringen\, Deutschland
END:VEVENT
END:VCALENDAR