BEGIN:VCALENDAR
VERSION:2.0
PRODID:-//URBANFIT ERFURT - ECPv4.9.4//NONSGML v1.0//EN
CALSCALE:GREGORIAN
METHOD:PUBLISH
X-WR-CALNAME:URBANFIT ERFURT
X-ORIGINAL-URL:https://www.urbanfit-erfurt.de
X-WR-CALDESC:Veranstaltungen im URBANFIT ERFURT
BEGIN:VTIMEZONE
TZID:"Europe/Helsinki"
BEGIN:DAYLIGHT
TZOFFSETFROM:+0200
TZOFFSETTO:+0300
TZNAME:EEST
DTSTART:20190331T010000
END:DAYLIGHT
BEGIN:STANDARD
TZOFFSETFROM:+0300
TZOFFSETTO:+0200
TZNAME:EET
DTSTART:20191027T010000
END:STANDARD
END:VTIMEZONE
BEGIN:VEVENT
DTSTART;TZID="Europe/Helsinki":20190222T181500
DTEND;TZID="Europe/Helsinki":20190222T184500
DTSTAMP:20260419T152142
CREATED:20180311T080517Z
LAST-MODIFIED:20190214T122949Z
UID:14678-1550859300-1550861100@www.urbanfit-erfurt.de
SUMMARY:RückenFit
DESCRIPTION:Das Training für einen gesunden Rücken!\n\nKräftig\, belastbar und beweglich sollte ein gesunder Rücken sein!\n\nUrbanFit-Erfurt bietet Dir ein effektives Rückentraining um eine gesunde und starke Muskulatur aufzubauen\, sowie Deinen Rücken beweglich zu halten.\n\nEin gerader Rücken und eine aufrechte Haltung sehen nicht nur attraktiver aus\, sie beugen gleichzeitig Rückenproblemen vor\, deine Körperwahrnehmung wird sich verbessern\, die Schultern und der Rücken werden mobilisiert.\n\nWas brauchst du für dein RückenFit-Kurs?\n\n– Trainingsmatte\n– eventuell ein kleines Handtuch\n– Wasser\n– Preis pro Person 7\,50 €\n\nKomm vorbei und entdecke mit uns gemeinsam den Spaß am Outdoor-Rückentraining.\n\nAlso keine Scheu – egal ob alt oder jung\, bereits fit oder noch ein Sportmuffel – unser Training bringt jeden Rücken in Form!\n\nDEINE STADT – DEIN TRAINING – DEINE OUTDOOR RÜCKENSCHULE
URL:https://www.urbanfit-erfurt.de/event/rueckenfit-8/
LOCATION:Parkstraße 1\, 99096 Erfurt\, Parkstraße 1\, 99096 Erfurt\, Deutschland
ATTACH;FMTTYPE=image/jpeg:https://www.urbanfit-erfurt.de/wp-content/uploads/0abbe82781451a3723cfafb183f86903.jpg
END:VEVENT
END:VCALENDAR