BEGIN:VCALENDAR
VERSION:2.0
PRODID:-//URBANFIT ERFURT - ECPv4.9.4//NONSGML v1.0//EN
CALSCALE:GREGORIAN
METHOD:PUBLISH
X-WR-CALNAME:URBANFIT ERFURT
X-ORIGINAL-URL:https://www.urbanfit-erfurt.de
X-WR-CALDESC:Veranstaltungen im URBANFIT ERFURT
BEGIN:VTIMEZONE
TZID:"Europe/Paris"
BEGIN:DAYLIGHT
TZOFFSETFROM:+0100
TZOFFSETTO:+0200
TZNAME:CEST
DTSTART:20190331T010000
END:DAYLIGHT
BEGIN:STANDARD
TZOFFSETFROM:+0200
TZOFFSETTO:+0100
TZNAME:CET
DTSTART:20191027T010000
END:STANDARD
END:VTIMEZONE
BEGIN:VEVENT
DTSTART;TZID="Europe/Paris":20190308T181500
DTEND;TZID="Europe/Paris":20190308T184500
DTSTAMP:20260420T173740
CREATED:20180306T044751Z
LAST-MODIFIED:20190301T105839Z
UID:14501-1552068900-1552070700@www.urbanfit-erfurt.de
SUMMARY:RückenFit
DESCRIPTION:Das Training für einen gesunden Rücken!\n\nKräftig\, belastbar und beweglich sollte ein gesunder Rücken sein!\n\nUrbanfit-Erfurt bietet Dir ein effektives Rückentraining um eine gesunde und starke Muskulatur aufzubauen\, sowie Deinen Rücken beweglich zu halten.\n\nEin gerader Rücken und eine aufrechte Haltung sehen nicht nur attraktiver aus\, sie beugen gleichzeitig Rückenproblemen vor\, deine Körperwahrnehmung wird sich verbessern\, die Schultern und der Rücken werden mobilisiert.\n\nWas brauchst du für dein RückenFit-Kurs?\n\n– Trainingsmatte\n– eventuell ein kleines Handtuch\n– Wasser\n– Preis pro Person 7\,50 €\n\nKomm vorbei und entdecke mit uns gemeinsam den Spaß am Outdoor-Rückentraining.\n\nAlso keine Scheu – egal ob alt oder jung\, bereits fit oder noch ein Sportmuffel – unser Training bringt jeden Rücken in Form!\n\nDEINE STADT – DEIN TRAINING – DEINE RÜCKENSCHULE IN ERFURT
URL:https://www.urbanfit-erfurt.de/event/rueckenfit-6/
LOCATION:Parkstraße 1\, 99096 Erfurt\, Parkstraße 1\, 99096 Erfurt\, Deutschland
ATTACH;FMTTYPE=image/jpeg:https://www.urbanfit-erfurt.de/wp-content/uploads/f2aed6e4cfda996023b8ad6053a5929e.jpg
END:VEVENT
END:VCALENDAR