BEGIN:VCALENDAR
VERSION:2.0
PRODID:-//URBANFIT ERFURT - ECPv4.9.4//NONSGML v1.0//EN
CALSCALE:GREGORIAN
METHOD:PUBLISH
X-WR-CALNAME:URBANFIT ERFURT
X-ORIGINAL-URL:https://www.urbanfit-erfurt.de
X-WR-CALDESC:Veranstaltungen im URBANFIT ERFURT
BEGIN:VTIMEZONE
TZID:"Europe/Paris"
BEGIN:DAYLIGHT
TZOFFSETFROM:+0100
TZOFFSETTO:+0200
TZNAME:CEST
DTSTART:20170326T010000
END:DAYLIGHT
BEGIN:STANDARD
TZOFFSETFROM:+0200
TZOFFSETTO:+0100
TZNAME:CET
DTSTART:20171029T010000
END:STANDARD
END:VTIMEZONE
BEGIN:VEVENT
DTSTART;TZID="Europe/Paris":20171126T100000
DTEND;TZID="Europe/Paris":20171126T110000
DTSTAMP:20260423T090733
CREATED:20171123T110523Z
LAST-MODIFIED:20171126T223357Z
UID:11210-1511690400-1511694000@www.urbanfit-erfurt.de
SUMMARY:Outdoortraining Level II
DESCRIPTION:Komm vorbei und entdecke mit uns gemeinsam den Spaß am Outdoortraining!\n\nBeim ersten Training kannst du dir einen Eindruck verschaffen\, wie du in deiner Stadt deine Topform findest!\n\nAlso keine Scheu …egal ob jung oder alt\, bereits fit oder noch ein Sportmuffel…unser Training bringt jedermann in Form! \n\nDEINE STADT – DEIN TRAINING\nPersonaltrainer Alexander Bube Erfurt
URL:https://www.urbanfit-erfurt.de/event/outdoortraining-level-ii-246/
LOCATION:Theater Erfurt\, Theaterplatz 1\, Erfurt\, 99084\, Germany
ATTACH;FMTTYPE=image/jpeg:https://www.urbanfit-erfurt.de/wp-content/uploads/e57201c7155420c31dc82d11fd58c3fd.jpg
END:VEVENT
END:VCALENDAR