BEGIN:VCALENDAR
VERSION:2.0
PRODID:-//URBANFIT ERFURT - ECPv4.9.4//NONSGML v1.0//EN
CALSCALE:GREGORIAN
METHOD:PUBLISH
X-WR-CALNAME:URBANFIT ERFURT
X-ORIGINAL-URL:https://www.urbanfit-erfurt.de
X-WR-CALDESC:Veranstaltungen im URBANFIT ERFURT
BEGIN:VTIMEZONE
TZID:"Europe/Paris"
BEGIN:DAYLIGHT
TZOFFSETFROM:+0100
TZOFFSETTO:+0200
TZNAME:CEST
DTSTART:20170326T010000
END:DAYLIGHT
BEGIN:STANDARD
TZOFFSETFROM:+0200
TZOFFSETTO:+0100
TZNAME:CET
DTSTART:20171029T010000
END:STANDARD
END:VTIMEZONE
BEGIN:VEVENT
DTSTART;TZID="Europe/Paris":20171126T090000
DTEND;TZID="Europe/Paris":20171126T094500
DTSTAMP:20260423T104954
CREATED:20171123T100815Z
LAST-MODIFIED:20171126T223357Z
UID:11204-1511686800-1511689500@www.urbanfit-erfurt.de
SUMMARY:Outdoortraining Level I
DESCRIPTION:Komm vorbei und entdecke mit uns gemeinsam den Spaß am Outdoortraining!\n\nBeim ersten Training kannst du dir einen Eindruck verschaffen\, wie du in deiner Stadt deine Topform findest!\n\nAlso keine Scheu …egal ob jung oder alt\, bereits fit oder noch ein Sportmuffel…unser Training bringt jedermann in Form!\n\nFür eine Kursgebühr von 7\,50 € feilen wir pro Einheit 45 Minuten lang mit Euch an allen Techniken eures Trainings.\n\nÜbrigens\, wer einen unserer Kurse – Outdoortraining-Level I besucht und direkt im Anschluss mit uns in eine weitere Trainingsstunde startet\, kann dabei auch noch sparen! Statt 15\,00 € zahlt Ihr für beide Kurse in Kombination nur 14\,00 €.\n\nFit werden und dabei sparen… wir freuen uns auf Euch!\n\nDEINE STADT – DEIN TRAINING\nhttp://www.urbanfit-erfurt.de \n#Personaltrainer\n#Personaltraining\n#AlexanderBube
URL:https://www.urbanfit-erfurt.de/event/outdoortraining-level-i-93/
LOCATION:Theater Erfurt\, Theaterplatz 1\, Erfurt\, 99084\, Germany
ATTACH;FMTTYPE=image/jpeg:https://www.urbanfit-erfurt.de/wp-content/uploads/a6024b797dbd1f6aa9efbcb80512c8e4.jpg
END:VEVENT
END:VCALENDAR