BEGIN:VCALENDAR
VERSION:2.0
PRODID:-//URBANFIT ERFURT - ECPv4.9.4//NONSGML v1.0//EN
CALSCALE:GREGORIAN
METHOD:PUBLISH
X-WR-CALNAME:URBANFIT ERFURT
X-ORIGINAL-URL:https://www.urbanfit-erfurt.de
X-WR-CALDESC:Veranstaltungen im URBANFIT ERFURT
BEGIN:VTIMEZONE
TZID:"UTC"
BEGIN:STANDARD
TZOFFSETFROM:+0000
TZOFFSETTO:+0000
TZNAME:UTC
DTSTART:20190101T000000
END:STANDARD
END:VTIMEZONE
BEGIN:VEVENT
DTSTART;TZID="UTC":20190224T111500
DTEND;TZID="UTC":20190224T120000
DTSTAMP:20260419T203458
CREATED:20180423T122225Z
LAST-MODIFIED:20190217T180042Z
UID:17373-1551006900-1551009600@www.urbanfit-erfurt.de
SUMMARY:MobilityFit
DESCRIPTION:Das etwas andere „Krafttraining“\n\nNicht nur das Training von Kraft und Ausdauer bestimmen eine komplexe Trainingseinheit. Der Faktor Beweglichkeit wird hierbei oft vernachlässigt. Mobilisationsübungen sollten daher ein fester Bestandteil in jedem Training sein. Durch ausreichende Beweglichkeit können Verletzungen vorgebeugt und die Leistungsfähigkeit im Training gesteigert werden. Gerade im Functional-Training erfordern Übungen wie Kniebeuge ein hohes Maß an Beweglichkeit in der Hüfte. Körperliche Beweglichkeit ist somit eine Voraussetzung für ein effektives und erfolgreiches Outdoor-Training. Im Alltag\, vor allem im Büroalltag\, kommt es häufig zu Fehlbelastungen und einseitigen oder falschen Körperhaltungen. Diese können durch mangelnde Beweglichkeit sogar noch verstärkt werden! UrbanFit-Erfurt zeigt dir wie du deine Beweglichkeit steigern kannst. Abwechslungsreiche Dehnübungen für verschiedene Muskelgruppen gehören zu den Hauptübungen einer MobilityFit-Trainingseinheit. Traut Euch – jeder ist willkommen!\n\nDEINE STADT – DEIN TRAINING
URL:https://www.urbanfit-erfurt.de/event/mobilityfit/
LOCATION:Parkstraße 1\, 99096 Erfurt\, Parkstraße 1\, 99096 Erfurt\, Deutschland
END:VEVENT
END:VCALENDAR