BEGIN:VCALENDAR
VERSION:2.0
PRODID:-//URBANFIT ERFURT - ECPv4.9.4//NONSGML v1.0//EN
CALSCALE:GREGORIAN
METHOD:PUBLISH
X-WR-CALNAME:URBANFIT ERFURT
X-ORIGINAL-URL:https://www.urbanfit-erfurt.de
X-WR-CALDESC:Veranstaltungen im URBANFIT ERFURT
BEGIN:VTIMEZONE
TZID:"UTC"
BEGIN:STANDARD
TZOFFSETFROM:+0000
TZOFFSETTO:+0000
TZNAME:UTC
DTSTART:20230101T000000
END:STANDARD
END:VTIMEZONE
BEGIN:VEVENT
DTSTART;TZID="UTC":20230812T100000
DTEND;TZID="UTC":20230812T104500
DTSTAMP:20260424T115256
CREATED:20230731T105005Z
LAST-MODIFIED:20230731T105005Z
UID:45824-1691834400-1691837100@www.urbanfit-erfurt.de
SUMMARY:MobilityFit
DESCRIPTION:Das etwas andere UrbanFit  „Krafttraining“\n\nNicht nur das Training von Kraft und Ausdauer bestimmen eine komplexe Trainingseinheit. Der Faktor Beweglichkeit wird hierbei oft vernachlässigt. Mobilisationsübungen sollten daher ein fester Bestandteil in jedem Training sein. Durch ausreichende Beweglichkeit können Verletzungen vorgebeugt und die Leistungsfähigkeit im Training gesteigert werden. \n\nAbwechslungsreiche Dehnübungen für verschiedene Muskelgruppen gehören zu den Hauptübungen einer \nMobilityFit Trainingseinheit. \n\nWas brauchst du für dein MobilityFit-Kurs?\n\n – Trainingsmatte (unbedingt)\n – eventuell ein kleines Handtuch\n – Wasser\n\nDie Bezahlung erfolgt in bar vor Ort beim jeweiligen Trainer…\nPreis pro Teilnehmer 08\,50 Euro\n\nTraut Euch – jeder ist willkommen!\n\nDeine Stadt- Dein Training – Deine Beweglichkeit
URL:https://www.urbanfit-erfurt.de/event/mobilityfit-43/
LOCATION:Pavillon An der Silberhütte\, 99094 Erfurt\, Deutschland
END:VEVENT
END:VCALENDAR