BEGIN:VCALENDAR
VERSION:2.0
PRODID:-//URBANFIT ERFURT - ECPv4.9.4//NONSGML v1.0//EN
CALSCALE:GREGORIAN
METHOD:PUBLISH
X-WR-CALNAME:URBANFIT ERFURT
X-ORIGINAL-URL:https://www.urbanfit-erfurt.de
X-WR-CALDESC:Veranstaltungen im URBANFIT ERFURT
BEGIN:VTIMEZONE
TZID:"UTC"
BEGIN:STANDARD
TZOFFSETFROM:+0000
TZOFFSETTO:+0000
TZNAME:UTC
DTSTART:20200101T000000
END:STANDARD
END:VTIMEZONE
BEGIN:VEVENT
DTSTART;TZID="UTC":20200613T093000
DTEND;TZID="UTC":20200613T103000
DTSTAMP:20260419T133305
CREATED:20200603T051751Z
LAST-MODIFIED:20200603T051751Z
UID:40919-1592040600-1592044200@www.urbanfit-erfurt.de
SUMMARY:MamaFit mit Kids
DESCRIPTION:Spass für Mama und Kind.\n\nDu bist vor kurzem Mama geworden und auf der Suche nach einem Fitnesstraining\, bei dem du dein Baby mitnehmen und gleichzeitig etwas für deine Figur und Gesundheit tun kannst? \n\nMITMACHEN KANN JEDE MAMA!\n\nDas Tempo und die Intensität der Übungen können individuell an jedes Leistungsniveau angepasst werden. \n\nDennoch empfiehlt es sich vorab\, einen Rückbildungskurs zu besuchen\, bevor man sich für «MamaFit mit Kids» anmeldet. Die Beckenmuskulatur ist nach der Geburt sehr schwach. Das führt bei Frauen im Alter sehr oft zu Inkontinenz.\n\nWährend die Mamas Sport treiben\, schauen die Kinder vom Wagen aus zu. Machen die Mütter eine Trinkpause\, gibt es auch für die Kleinen etwas Zuwendung.\n\nBei unserem Outdoor-Programm MamaFit mit Kids trainieren wir Bauch\, Beine und Po und kräftigen die Rücken- und Nackenmuskulatur. Ziel ist es der Beckenbodenschwäche vorzubeugen.  \n\nDas erwartet Dich: \n\n– Gemeinsam Spaß für Mama und Kind\n– Wirkungsvolles und einfaches Training\n– Schnell sichtbare Erfolge\n– Stärkung des Immunsystems durch Bewegung im Freien\n– Funktionale Übungen am Kinderwagen\n\nDas benötigst du für den Kurs:\n\n– Sportbekleidung (entsprechend der Jahreszeit)\n– Trainingsmatte\n– eventuell ein kleines Handtuch/ Decke\n– etwas zu trinken\n\nKostenfreie Parkplätze sind vorhanden. Kostenlose Probestunde möglich. Treffpunkt: jeden Samstag 09:30 Uhr Dreibrunnenbad Hochheimer Straße 35a\, 99094 Erfurt. \n\nVerbindlich Anmeldung über folgenden Link:\n\nMama-Fit mit Kids
URL:https://www.urbanfit-erfurt.de/event/mamafit-mit-kids-9/
LOCATION:Dreienbrunnenbad Erfurt (Hochheimer Str. 35A)
END:VEVENT
END:VCALENDAR