BEGIN:VCALENDAR
VERSION:2.0
PRODID:-//URBANFIT ERFURT - ECPv4.9.4//NONSGML v1.0//EN
CALSCALE:GREGORIAN
METHOD:PUBLISH
X-WR-CALNAME:URBANFIT ERFURT
X-ORIGINAL-URL:https://www.urbanfit-erfurt.de
X-WR-CALDESC:Veranstaltungen im URBANFIT ERFURT
BEGIN:VTIMEZONE
TZID:"UTC"
BEGIN:STANDARD
TZOFFSETFROM:+0000
TZOFFSETTO:+0000
TZNAME:UTC
DTSTART:20230101T000000
END:STANDARD
END:VTIMEZONE
BEGIN:VEVENT
DTSTART;TZID="UTC":20231104T093000
DTEND;TZID="UTC":20231104T103000
DTSTAMP:20260420T030359
CREATED:20231025T123842Z
LAST-MODIFIED:20231031T064432Z
UID:46145-1699090200-1699093800@www.urbanfit-erfurt.de
SUMMARY:LaufFit Sprinttraining 7\,5 km Level I/II (Sonderkurs)
DESCRIPTION:Das Lauftraining für alle die sich noch nicht so viel zutrauen! \n\nUrbanFit-Erfurt steht Dir mit Fachkompetenz und nützlichen Tipps zur Seite. \n\nWas erwartet Dich: \n\n– Lauf ABC zur Erwärmung (zur Verbesserung &. Optimierung deines Laufstils) \n– Berganläufe zur Leistungssteigerung \n– Intervalltraining (verstärkter Trainingsreiz durch unvollständige Erholung) \n– maximal 8 km Laufstrecke \n\nPreis pro Teilnehmer 10\,00 Euro \n\nDEINE STADT – DEIN LAUFTRAINING
URL:https://www.urbanfit-erfurt.de/event/lauffit-sprinttraining-75-km-level-i-ii-sonderkurs/
LOCATION:Brücken Am Holzberg (Erfurt Hochheim)\, Am Holzberg\, Erfurt Hochheim\, Thüringen\, 99094\, Deutschland
END:VEVENT
END:VCALENDAR