BEGIN:VCALENDAR
VERSION:2.0
PRODID:-//URBANFIT ERFURT - ECPv4.9.4//NONSGML v1.0//EN
CALSCALE:GREGORIAN
METHOD:PUBLISH
X-WR-CALNAME:URBANFIT ERFURT
X-ORIGINAL-URL:https://www.urbanfit-erfurt.de
X-WR-CALDESC:Veranstaltungen im URBANFIT ERFURT
BEGIN:VTIMEZONE
TZID:"UTC"
BEGIN:STANDARD
TZOFFSETFROM:+0000
TZOFFSETTO:+0000
TZNAME:UTC
DTSTART:20240101T000000
END:STANDARD
END:VTIMEZONE
BEGIN:VEVENT
DTSTART;TZID="UTC":20240123T183000
DTEND;TZID="UTC":20240123T191500
DTSTAMP:20260419T233824
CREATED:20240109T102716Z
LAST-MODIFIED:20240109T102716Z
UID:46425-1706034600-1706037300@www.urbanfit-erfurt.de
SUMMARY:LaufFit FunctionalFit Level I/II
DESCRIPTION:Das UrbanFit-Lauftraining für Jedermann.\n\nNatürlich gibt es 1000 Gründe die dafür sprechen endlich mit dem Laufen zu beginnen oder es ganz und gar regelmäßig zu betreiben. Steigerung der Lebenserwartung\, Stärkung des Herz- Kreislaufsystems\, Ankurbeln des Fettstoffwechsels\, Stressabbau und Erhöhung der Lebensqualität.\n\nUrbanFit-Erfurt steht Dir mit Fachkompetenz und nützlichen Tipps zur Seite. Ob als Einstieg zum Hobbyläufer\, in Vorbereitung auf einen Firmenlauf oder auch Betreuung bis zum anstehenden Marathon.\n\nWir begleiten Dich auf deinem Weg!\n\nWir bieten Dir: \n– Verbesserung bzw. Optimierung deines Laufstils\n– kraftsparendes Laufen durch die richtige Körperhaltung\n– Verringerung der Bremswirkung durch richtiges \n  Aufsetzen der Füße\n– Lauf-ABC \n– maximal 6km Laufstrecke \n\nDEINE STADT – DEIN LAUFTRAINING \n\n#Vorbereiter #Marathon #Marathonvorbereitung #run #running #urbanrun #Laufsport #urbanrunning
URL:https://www.urbanfit-erfurt.de/event/lauffit-functionalfit-level-i-ii-210/
LOCATION:Pavillon An der Silberhütte\, 99094 Erfurt\, Deutschland
END:VEVENT
END:VCALENDAR