BEGIN:VCALENDAR
VERSION:2.0
PRODID:-//URBANFIT ERFURT - ECPv4.9.4//NONSGML v1.0//EN
CALSCALE:GREGORIAN
METHOD:PUBLISH
X-WR-CALNAME:URBANFIT ERFURT
X-ORIGINAL-URL:https://www.urbanfit-erfurt.de
X-WR-CALDESC:Veranstaltungen im URBANFIT ERFURT
BEGIN:VTIMEZONE
TZID:"UTC"
BEGIN:STANDARD
TZOFFSETFROM:+0000
TZOFFSETTO:+0000
TZNAME:UTC
DTSTART:20250101T000000
END:STANDARD
END:VTIMEZONE
BEGIN:VEVENT
DTSTART;TZID="UTC":20250913T093000
DTEND;TZID="UTC":20250913T103000
DTSTAMP:20260422T235841
CREATED:20250905T081951Z
LAST-MODIFIED:20250905T081951Z
UID:48650-1757755800-1757759400@www.urbanfit-erfurt.de
SUMMARY:LaufFit 9km (ENTSPANNUNGSLAUF)
DESCRIPTION:Das Lauftraining für alle die sich noch nicht so viel zutrauen! \n\nUrbanFit-Erfurt steht Dir mit Fachkompetenz und nützlichen Tipps zur Seite. \n\nWas erwartet Dich: \n\n– Lauf ABC zur Erwärmung (zur Verbesserung &. Optimierung deines Laufstils) \n– Berganläufe zur Leistungssteigerung \n– Intervalltraining (verstärkter Trainingsreiz durch unvollständige Erholung) \n– maximal 10km Laufstrecke \n\nPreis pro Teilnehmer 10\,00 Euro \n\nDEINE STADT – DEIN LAUFTRAINING
URL:https://www.urbanfit-erfurt.de/event/lauffit-9km-entspannungslauf-3/
LOCATION:Hohenzollernbrücke (Erfurt)\, Alfred-Hess Straße\, Erfurt\, Thüringen\, Deutschland
END:VEVENT
END:VCALENDAR