BEGIN:VCALENDAR
VERSION:2.0
PRODID:-//URBANFIT ERFURT - ECPv4.9.4//NONSGML v1.0//EN
CALSCALE:GREGORIAN
METHOD:PUBLISH
X-WR-CALNAME:URBANFIT ERFURT
X-ORIGINAL-URL:https://www.urbanfit-erfurt.de
X-WR-CALDESC:Veranstaltungen im URBANFIT ERFURT
BEGIN:VTIMEZONE
TZID:"UTC"
BEGIN:STANDARD
TZOFFSETFROM:+0000
TZOFFSETTO:+0000
TZNAME:UTC
DTSTART:20240101T000000
END:STANDARD
END:VTIMEZONE
BEGIN:VEVENT
DTSTART;TZID="UTC":20241003T093000
DTEND;TZID="UTC":20241003T104500
DTSTAMP:20260422T085831
CREATED:20240923T080836Z
LAST-MODIFIED:20240923T080836Z
UID:47384-1727947800-1727952300@www.urbanfit-erfurt.de
SUMMARY:LaufFit 10km Level II Entspannungslauf
DESCRIPTION:Das Lauftraining für alle die sich noch nicht so viel zutrauen!\nUrbanFit-Erfurt steht Dir mit Fachkompetenz und nützlichen Tipps zur Seite.\nWas erwartet Dich:\n– Lauf ABC zur Erwärmung (zur Verbesserung &. Optimierung deines Laufstils)\n– Berganläufe zur Leistungssteigerung\n– Intervalltraining (verstärkter Trainingsreiz durch unvollständige Erholung)\n– maximal 10\,5km Laufstrecke\n\nPreis pro Teilnehmer 10\,00 Euro\n\nDEINE STADT – DEIN LAUFTRAINING
URL:https://www.urbanfit-erfurt.de/event/lauffit-10km-level-ii-entspannungslauf/
LOCATION:Scheidemantelweg (50m nach Aldi…hinter der Brücke)\, Erfurt\, Thüringen
END:VEVENT
END:VCALENDAR