BEGIN:VCALENDAR
VERSION:2.0
PRODID:-//URBANFIT ERFURT - ECPv4.9.4//NONSGML v1.0//EN
CALSCALE:GREGORIAN
METHOD:PUBLISH
X-WR-CALNAME:URBANFIT ERFURT
X-ORIGINAL-URL:https://www.urbanfit-erfurt.de
X-WR-CALDESC:Veranstaltungen im URBANFIT ERFURT
BEGIN:VTIMEZONE
TZID:"UTC"
BEGIN:STANDARD
TZOFFSETFROM:+0000
TZOFFSETTO:+0000
TZNAME:UTC
DTSTART:20230101T000000
END:STANDARD
END:VTIMEZONE
BEGIN:VEVENT
DTSTART;TZID="UTC":20230729T090000
DTEND;TZID="UTC":20230729T101500
DTSTAMP:20260422T175049
CREATED:20230720T074607Z
LAST-MODIFIED:20230720T074607Z
UID:45769-1690621200-1690625700@www.urbanfit-erfurt.de
SUMMARY:LaufFit 10 km Level I/II (Entspannungslauf)
DESCRIPTION:Das Lauftraining für alle die sich noch nicht so viel zutrauen! \n\nUrbanFit-Erfurt steht Dir mit Fachkompetenz und nützlichen Tipps zur Seite. \n\nWas erwartet Dich: \n\n– Lauf ABC zur Erwärmung (zur Verbesserung &. Optimierung deines Laufstils) \n– Berganläufe zur Leistungssteigerung \n– Intervalltraining (verstärkter Trainingsreiz durch unvollständige Erholung) \n– maximal 10\,5 km Laufstrecke \n\nPreis pro Teilnehmer 10\,00 Euro \n\nDEINE STADT – DEIN LAUFTRAINING
URL:https://www.urbanfit-erfurt.de/event/lauffit-10-km-level-i-ii-entspannungslauf-6/
LOCATION:Fuchsgrund 27\, Fuchsgrund 27\, Erfurt\, Thüringen\, 99089
END:VEVENT
END:VCALENDAR