BEGIN:VCALENDAR
VERSION:2.0
PRODID:-//URBANFIT ERFURT - ECPv4.9.4//NONSGML v1.0//EN
CALSCALE:GREGORIAN
METHOD:PUBLISH
X-WR-CALNAME:URBANFIT ERFURT
X-ORIGINAL-URL:https://www.urbanfit-erfurt.de
X-WR-CALDESC:Veranstaltungen im URBANFIT ERFURT
BEGIN:VTIMEZONE
TZID:"UTC"
BEGIN:STANDARD
TZOFFSETFROM:+0000
TZOFFSETTO:+0000
TZNAME:UTC
DTSTART:20260101T000000
END:STANDARD
END:VTIMEZONE
BEGIN:VEVENT
DTSTART;TZID="UTC":20260418T120000
DTEND;TZID="UTC":20260418T160000
DTSTAMP:20260423T090637
CREATED:20260404T151339Z
LAST-MODIFIED:20260404T151339Z
UID:49366-1776513600-1776528000@www.urbanfit-erfurt.de
SUMMARY:JMK Gesundheits-Workshop
DESCRIPTION:
URL:https://www.urbanfit-erfurt.de/event/jmk-gesundheits-workshop/
END:VEVENT
END:VCALENDAR