BEGIN:VCALENDAR
VERSION:2.0
PRODID:-//URBANFIT ERFURT - ECPv4.9.4//NONSGML v1.0//EN
CALSCALE:GREGORIAN
METHOD:PUBLISH
X-WR-CALNAME:URBANFIT ERFURT
X-ORIGINAL-URL:https://www.urbanfit-erfurt.de
X-WR-CALDESC:Veranstaltungen im URBANFIT ERFURT
BEGIN:VTIMEZONE
TZID:"UTC"
BEGIN:STANDARD
TZOFFSETFROM:+0000
TZOFFSETTO:+0000
TZNAME:UTC
DTSTART:20230101T000000
END:STANDARD
END:VTIMEZONE
BEGIN:VEVENT
DTSTART;TZID="UTC":20230918T173000
DTEND;TZID="UTC":20230918T183000
DTSTAMP:20260420T073133
CREATED:20230911T090224Z
LAST-MODIFIED:20230911T090224Z
UID:45966-1695058200-1695061800@www.urbanfit-erfurt.de
SUMMARY:Ichtershausen Sightseeing FunctionalFit Level I/II
DESCRIPTION:Komm vorbei und entdecke mit uns gemeinsam den Spaß am Outdoortraining!\n\nBeim ersten Training kannst du dir einen Eindruck verschaffen\, wie du in deiner Stadt deine Topform findest!\n\nUrbanFit-Erfurt steht Dir dabei mit Fachkompetenz und nützlichen Tipps zur Seite.\n\nAlso keine Scheu …egal ob jung oder alt\, bereits fit oder noch ein Sportmuffel…Das Training von UrbanFit-Erfurt bringt jedermann in Form! \n\nDie Bezahlung erfolgt in bar vor Ort beim jeweiligen Trainer…\n\nPreis pro Teilnehmer 08\,50 Euro\n\nEin Kostenloses Probetraining ist nicht möglich.\n\nDEINE STADT – DEIN TRAINING
URL:https://www.urbanfit-erfurt.de/event/ichtershausen-sightseeing-functionalfit-level-i-ii-34/
LOCATION:Gemeindeverwaltung Ichtershausen\, Erfurter Straße 42\, Ichtershausen\, 99334
ORGANIZER;CN="UrbanFit-Ichtershausen%2FArnstadt":MAILTO:info@urbanfit-erfurt.de
END:VEVENT
END:VCALENDAR