BEGIN:VCALENDAR
VERSION:2.0
PRODID:-//URBANFIT ERFURT - ECPv4.9.4//NONSGML v1.0//EN
CALSCALE:GREGORIAN
METHOD:PUBLISH
X-WR-CALNAME:URBANFIT ERFURT
X-ORIGINAL-URL:https://www.urbanfit-erfurt.de
X-WR-CALDESC:Veranstaltungen im URBANFIT ERFURT
BEGIN:VTIMEZONE
TZID:"UTC"
BEGIN:STANDARD
TZOFFSETFROM:+0000
TZOFFSETTO:+0000
TZNAME:UTC
DTSTART:20260101T000000
END:STANDARD
END:VTIMEZONE
BEGIN:VEVENT
DTSTART;VALUE=DATE:20260221
DTEND;VALUE=DATE:20260222
DTSTAMP:20260420T112904
CREATED:20260219T175132Z
LAST-MODIFIED:20260219T175205Z
UID:49217-1771632000-1771718399@www.urbanfit-erfurt.de
SUMMARY:GESCHLOSSEN
DESCRIPTION:
URL:https://www.urbanfit-erfurt.de/event/geschlossen-53/
LOCATION:Erfurt
END:VEVENT
END:VCALENDAR