BEGIN:VCALENDAR
VERSION:2.0
PRODID:-//URBANFIT ERFURT - ECPv4.9.4//NONSGML v1.0//EN
CALSCALE:GREGORIAN
METHOD:PUBLISH
X-WR-CALNAME:URBANFIT ERFURT
X-ORIGINAL-URL:https://www.urbanfit-erfurt.de
X-WR-CALDESC:Veranstaltungen im URBANFIT ERFURT
BEGIN:VTIMEZONE
TZID:"UTC"
BEGIN:STANDARD
TZOFFSETFROM:+0000
TZOFFSETTO:+0000
TZNAME:UTC
DTSTART:20240101T000000
END:STANDARD
END:VTIMEZONE
BEGIN:VEVENT
DTSTART;VALUE=DATE:20240127
DTEND;VALUE=DATE:20240128
DTSTAMP:20260419T233645
CREATED:20240118T090442Z
LAST-MODIFIED:20240118T090442Z
UID:46446-1706313600-1706399999@www.urbanfit-erfurt.de
SUMMARY:GESCHLOSSEN
DESCRIPTION:
URL:https://www.urbanfit-erfurt.de/event/geschlossen-21/
LOCATION:Erfurt
END:VEVENT
END:VCALENDAR