BEGIN:VCALENDAR
VERSION:2.0
PRODID:-//URBANFIT ERFURT - ECPv4.9.4//NONSGML v1.0//EN
CALSCALE:GREGORIAN
METHOD:PUBLISH
X-WR-CALNAME:URBANFIT ERFURT
X-ORIGINAL-URL:https://www.urbanfit-erfurt.de
X-WR-CALDESC:Veranstaltungen im URBANFIT ERFURT
BEGIN:VTIMEZONE
TZID:"UTC"
BEGIN:STANDARD
TZOFFSETFROM:+0000
TZOFFSETTO:+0000
TZNAME:UTC
DTSTART:20230101T000000
END:STANDARD
END:VTIMEZONE
BEGIN:VEVENT
DTSTART;VALUE=DATE:20231111
DTEND;VALUE=DATE:20231112
DTSTAMP:20260420T044358
CREATED:20231106T084509Z
LAST-MODIFIED:20231107T111407Z
UID:46199-1699660800-1699747199@www.urbanfit-erfurt.de
SUMMARY:GESCHLOSSEN
DESCRIPTION:
URL:https://www.urbanfit-erfurt.de/event/geschlossen-19/
LOCATION:Erfurt Thüringen
END:VEVENT
END:VCALENDAR