BEGIN:VCALENDAR
VERSION:2.0
PRODID:-//URBANFIT ERFURT - ECPv4.9.4//NONSGML v1.0//EN
CALSCALE:GREGORIAN
METHOD:PUBLISH
X-WR-CALNAME:URBANFIT ERFURT
X-ORIGINAL-URL:https://www.urbanfit-erfurt.de
X-WR-CALDESC:Veranstaltungen im URBANFIT ERFURT
BEGIN:VTIMEZONE
TZID:"UTC"
BEGIN:STANDARD
TZOFFSETFROM:+0000
TZOFFSETTO:+0000
TZNAME:UTC
DTSTART:20240101T000000
END:STANDARD
END:VTIMEZONE
BEGIN:VEVENT
DTSTART;VALUE=DATE:20240119
DTEND;VALUE=DATE:20240120
DTSTAMP:20260419T233617
CREATED:20240106T114533Z
LAST-MODIFIED:20240106T114533Z
UID:46410-1705622400-1705708799@www.urbanfit-erfurt.de
SUMMARY:GEÖFFNET
DESCRIPTION:Die RückenFit-Rückenschule AB MÄRZ WIEDER FÜR EUCH DA
URL:https://www.urbanfit-erfurt.de/event/geoeffnet-4/
LOCATION:Erfurt
END:VEVENT
END:VCALENDAR