BEGIN:VCALENDAR
VERSION:2.0
PRODID:-//URBANFIT ERFURT - ECPv4.9.4//NONSGML v1.0//EN
CALSCALE:GREGORIAN
METHOD:PUBLISH
X-WR-CALNAME:URBANFIT ERFURT
X-ORIGINAL-URL:https://www.urbanfit-erfurt.de
X-WR-CALDESC:Veranstaltungen im URBANFIT ERFURT
BEGIN:VTIMEZONE
TZID:"UTC"
BEGIN:STANDARD
TZOFFSETFROM:+0000
TZOFFSETTO:+0000
TZNAME:UTC
DTSTART:20240101T000000
END:STANDARD
END:VTIMEZONE
BEGIN:VEVENT
DTSTART;VALUE=DATE:20240105
DTEND;VALUE=DATE:20240106
DTSTAMP:20260419T233507
CREATED:20231214T102421Z
LAST-MODIFIED:20231214T102421Z
UID:46380-1704412800-1704499199@www.urbanfit-erfurt.de
SUMMARY:GEÖFFNET
DESCRIPTION:
URL:https://www.urbanfit-erfurt.de/event/geoeffnet-2/
END:VEVENT
END:VCALENDAR