BEGIN:VCALENDAR
VERSION:2.0
PRODID:-//URBANFIT ERFURT - ECPv4.9.4//NONSGML v1.0//EN
CALSCALE:GREGORIAN
METHOD:PUBLISH
X-WR-CALNAME:URBANFIT ERFURT
X-ORIGINAL-URL:https://www.urbanfit-erfurt.de
X-WR-CALDESC:Veranstaltungen im URBANFIT ERFURT
BEGIN:VTIMEZONE
TZID:"UTC"
BEGIN:STANDARD
TZOFFSETFROM:+0000
TZOFFSETTO:+0000
TZNAME:UTC
DTSTART:20230101T000000
END:STANDARD
END:VTIMEZONE
BEGIN:VEVENT
DTSTART;TZID="UTC":20230728T181500
DTEND;TZID="UTC":20230728T191500
DTSTAMP:20260422T191921
CREATED:20230726T080031Z
LAST-MODIFIED:20230726T082302Z
UID:45798-1690568100-1690571700@www.urbanfit-erfurt.de
SUMMARY:FussballFit-ATHLETIKTRAINING
DESCRIPTION:Training mit der Fussballmanschaft\n\nDas Team von UrbanFit liebt und lebt das Outdoortraining. Wir führen für unsere Sportler nicht nur Kurse im Rahmen der Firmenfitness durch\, sondern trainieren in der Gruppe auch ganze Fußballmannschaften.\n\nSowohl für Mannschaften in der Kreisliga\, Landesklasse\, als auch für bevorstehende Aufsteiger in die Oberliga ist UrbanFit der ideale Partner. Damit es auch weiterhin in den Ligen nach oben geht\, kommen wir mit unserem FussballFit-Kurs ins Spiel\, um neue und trainingswirksame Reize zu setzen bzw. um den Teamgeist zu stärken. Unter Berücksichtigung der verschiedenen Belastungsprinzipien erstellen wir gemeinsam mit unseren Kunden / Vereinstrainern entsprechende Trainingseinheiten und gehen auf Ihre Wünsche ein\, wie zum Beispiel das Training der koordinativen Fähigkeiten\, Schnellkraft-\, Koordinationstraining oder Stabilitäts-\, Kraft und Beweglichkeitstraining.\nWir unterstützen Sie und Ihre Mannschaft beim AUFSTEIGEN in die nächste Klasse oder auch beim Klassenerhalt! Vertrauen Sie der Erfahrung der qualifizierten Trainer von UrbanFit Erfurt.\n\nHaben auch Sie Interesse an einem individuellen Training Ihrer Mannschaft oder Ihres Teams? Kontaktieren Sie uns unter UrbanFit-Erfurt. Wir erstellen gemeinsam einen effektiven Trainingsplan und setzen neue Trainingsreize.
URL:https://www.urbanfit-erfurt.de/event/fussballfit-athletiktraining-3/
LOCATION:Sport-Freunde Marbach e.V.
END:VEVENT
END:VCALENDAR