BEGIN:VCALENDAR
VERSION:2.0
PRODID:-//URBANFIT ERFURT - ECPv4.9.4//NONSGML v1.0//EN
CALSCALE:GREGORIAN
METHOD:PUBLISH
X-WR-CALNAME:URBANFIT ERFURT
X-ORIGINAL-URL:https://www.urbanfit-erfurt.de
X-WR-CALDESC:Veranstaltungen im URBANFIT ERFURT
BEGIN:VTIMEZONE
TZID:"UTC"
BEGIN:STANDARD
TZOFFSETFROM:+0000
TZOFFSETTO:+0000
TZNAME:UTC
DTSTART:20190101T000000
END:STANDARD
END:VTIMEZONE
BEGIN:VEVENT
DTSTART;TZID="UTC":20191009T190000
DTEND;TZID="UTC":20191009T200000
DTSTAMP:20260422T085235
CREATED:20191004T143127Z
LAST-MODIFIED:20191004T143127Z
UID:39543-1570647600-1570651200@www.urbanfit-erfurt.de
SUMMARY:FunctionalFit Level II
DESCRIPTION:Komm vorbei und entdecke mit uns gemeinsam den Spaß am Outdoortraining!\n\nBeim ersten Training kannst du dir einen Eindruck verschaffen\, wie du in deiner Stadt deine Topform findest!\n\nAlso keine Scheu …egal ob jung oder alt\, bereits fit oder noch ein Sportmuffel…Das Training von UrbanFit-Erfurt bringt jedermann in Form! \n\nDEINE STADT – DEIN TRAINING\nPersonaltrainer Erfurt / Fitness in Erfurt / Cardio
URL:https://www.urbanfit-erfurt.de/event/functionalfit-level-ii-74/
LOCATION:Petersberg 10
END:VEVENT
END:VCALENDAR