BEGIN:VCALENDAR
VERSION:2.0
PRODID:-//URBANFIT ERFURT - ECPv4.9.4//NONSGML v1.0//EN
CALSCALE:GREGORIAN
METHOD:PUBLISH
X-WR-CALNAME:URBANFIT ERFURT
X-ORIGINAL-URL:https://www.urbanfit-erfurt.de
X-WR-CALDESC:Veranstaltungen im URBANFIT ERFURT
BEGIN:VTIMEZONE
TZID:"Europe/Paris"
BEGIN:DAYLIGHT
TZOFFSETFROM:+0100
TZOFFSETTO:+0200
TZNAME:CEST
DTSTART:20190331T010000
END:DAYLIGHT
BEGIN:STANDARD
TZOFFSETFROM:+0200
TZOFFSETTO:+0100
TZNAME:CET
DTSTART:20191027T010000
END:STANDARD
END:VTIMEZONE
BEGIN:VEVENT
DTSTART;TZID="Europe/Paris":20190216T083000
DTEND;TZID="Europe/Paris":20190216T100000
DTSTAMP:20260423T090429
CREATED:20180215T141651Z
LAST-MODIFIED:20190209T164404Z
UID:13850-1550305800-1550311200@www.urbanfit-erfurt.de
SUMMARY:DOUBLE-FunctionalFit mit DANI & ALEX
DESCRIPTION:Komm vorbei und entdecke mit uns gemeinsam den Spaß am Outdoortraining!\n\nBeim ersten Training kannst du dir einen Eindruck verschaffen\, wie du in deiner Stadt deine Topform findest!\n\nAlso keine Scheu …egal ob jung oder alt\, bereits fit oder noch ein Sportmuffel…unser Training bringt jedermann in Form!\n\nDEINE STADT – DEIN TRAINING\nPersonaltrainer/Porsonaltraining/Spa/Wellness/Fitnessstudio
URL:https://www.urbanfit-erfurt.de/event/functionalfit-level-ii-6/
LOCATION:Dreienbrunnenbad Erfurt (Hochheimer Str. 35A)
ATTACH;FMTTYPE=image/jpeg:https://www.urbanfit-erfurt.de/wp-content/uploads/1faeb083fa9b36d721c8b9c73b9dd7f5-1.jpg
END:VEVENT
END:VCALENDAR