BEGIN:VCALENDAR
VERSION:2.0
PRODID:-//URBANFIT ERFURT - ECPv4.9.4//NONSGML v1.0//EN
CALSCALE:GREGORIAN
METHOD:PUBLISH
X-WR-CALNAME:URBANFIT ERFURT
X-ORIGINAL-URL:https://www.urbanfit-erfurt.de
X-WR-CALDESC:Veranstaltungen im URBANFIT ERFURT
BEGIN:VTIMEZONE
TZID:"Europe/Helsinki"
BEGIN:DAYLIGHT
TZOFFSETFROM:+0200
TZOFFSETTO:+0300
TZNAME:EEST
DTSTART:20190331T010000
END:DAYLIGHT
BEGIN:STANDARD
TZOFFSETFROM:+0300
TZOFFSETTO:+0200
TZNAME:EET
DTSTART:20191027T010000
END:STANDARD
END:VTIMEZONE
BEGIN:VEVENT
DTSTART;TZID="Europe/Helsinki":20190313T190000
DTEND;TZID="Europe/Helsinki":20190313T200000
DTSTAMP:20260423T062302
CREATED:20180326T193936Z
LAST-MODIFIED:20190309T114349Z
UID:15242-1552503600-1552507200@www.urbanfit-erfurt.de
SUMMARY:FunctionalFit Level II
DESCRIPTION:Komm vorbei und entdecke mit uns gemeinsam den Spaß am Outdoortraining mit UrbanFit-Erfurt!\n\nBeim ersten Training kannst du dir einen Eindruck verschaffen\, wie du in deiner Stadt deine Topform findest!\n\nAlso keine Scheu …egal ob jung oder alt\, bereits fit oder noch ein Sportmuffel…unser Training bringt jedermann in Form!\n\nDEINE STADT – DEIN TRAINING\nPersonaltrainer Erfurt / Fitness in Erfurt / Training am Gutenberg Gymnasium
URL:https://www.urbanfit-erfurt.de/event/functionalfit-level-ii-29/
LOCATION:Gutenberg-Gymnasium\, Gutenbergplatz 6\, Erfurt\, 99092\, Germany
ATTACH;FMTTYPE=image/jpeg:https://www.urbanfit-erfurt.de/wp-content/uploads/0dc7809dbfd995f734dc759040ece8e2.jpg
END:VEVENT
END:VCALENDAR