BEGIN:VCALENDAR
VERSION:2.0
PRODID:-//URBANFIT ERFURT - ECPv4.9.4//NONSGML v1.0//EN
CALSCALE:GREGORIAN
METHOD:PUBLISH
X-WR-CALNAME:URBANFIT ERFURT
X-ORIGINAL-URL:https://www.urbanfit-erfurt.de
X-WR-CALDESC:Veranstaltungen im URBANFIT ERFURT
BEGIN:VTIMEZONE
TZID:"Europe/Helsinki"
BEGIN:DAYLIGHT
TZOFFSETFROM:+0200
TZOFFSETTO:+0300
TZNAME:EEST
DTSTART:20190331T010000
END:DAYLIGHT
BEGIN:STANDARD
TZOFFSETFROM:+0300
TZOFFSETTO:+0200
TZNAME:EET
DTSTART:20191027T010000
END:STANDARD
END:VTIMEZONE
BEGIN:VEVENT
DTSTART;TZID="Europe/Helsinki":20190310T100000
DTEND;TZID="Europe/Helsinki":20190310T110000
DTSTAMP:20260422T193747
CREATED:20180313T044853Z
LAST-MODIFIED:20190304T055145Z
UID:14731-1552212000-1552215600@www.urbanfit-erfurt.de
SUMMARY:FunctionalFit Level II
DESCRIPTION:Komm vorbei und entdecke mit uns gemeinsam den Spaß am Outdoortraining!\n\nBeim ersten Training kannst du dir einen Eindruck verschaffen\, wie du in deiner Stadt deine Topform findest!\n\nAlso keine Scheu …egal ob jung oder alt\, bereits fit oder noch ein Sportmuffel…unser Training bringt jedermann in Form!\n\nDEINE STADT – DEIN TRAINING\nPersonaltrainer Alexander Bube Erfurt
URL:https://www.urbanfit-erfurt.de/event/functionalfit-level-ii-23-2/
LOCATION:Gutenbergplatz 6\, 99092 Erfurt\, Deutschland
ATTACH;FMTTYPE=image/jpeg:https://www.urbanfit-erfurt.de/wp-content/uploads/0c4ec122f6c121abdc2253f78cc21d34-1.jpg
END:VEVENT
END:VCALENDAR