BEGIN:VCALENDAR
VERSION:2.0
PRODID:-//URBANFIT ERFURT - ECPv4.9.4//NONSGML v1.0//EN
CALSCALE:GREGORIAN
METHOD:PUBLISH
X-WR-CALNAME:URBANFIT ERFURT
X-ORIGINAL-URL:https://www.urbanfit-erfurt.de
X-WR-CALDESC:Veranstaltungen im URBANFIT ERFURT
BEGIN:VTIMEZONE
TZID:"UTC"
BEGIN:STANDARD
TZOFFSETFROM:+0000
TZOFFSETTO:+0000
TZNAME:UTC
DTSTART:20210101T000000
END:STANDARD
END:VTIMEZONE
BEGIN:VEVENT
DTSTART;TZID="UTC":20210707T183000
DTEND;TZID="UTC":20210707T193000
DTSTAMP:20260423T105336
CREATED:20210627T061631Z
LAST-MODIFIED:20210627T061631Z
UID:42389-1625682600-1625686200@www.urbanfit-erfurt.de
SUMMARY:FunctionalFit Level II
DESCRIPTION:Komm vorbei und entdecke mit uns gemeinsam den Spaß am Outdoortraining!\n\nBeim ersten Training kannst du dir einen Eindruck verschaffen\, wie du in deiner Stadt deine Topform findest!\n\nAlso keine Scheu …egal ob jung oder alt\, bereits fit oder noch ein Sportmuffel…Das Training von UrbanFit-Erfurt bringt jedermann in Form! \n\nDEINE STADT – DEIN TRAINING\n\nPersonaltrainer Erfurt / Fitness in Erfurt / Cardio
URL:https://www.urbanfit-erfurt.de/event/functionalfit-level-ii-119/
LOCATION:Theaterplatz 1\, 99084 Erfurt\, Deutschland
END:VEVENT
END:VCALENDAR