BEGIN:VCALENDAR
VERSION:2.0
PRODID:-//URBANFIT ERFURT - ECPv4.9.4//NONSGML v1.0//EN
CALSCALE:GREGORIAN
METHOD:PUBLISH
X-WR-CALNAME:URBANFIT ERFURT
X-ORIGINAL-URL:https://www.urbanfit-erfurt.de
X-WR-CALDESC:Veranstaltungen im URBANFIT ERFURT
BEGIN:VTIMEZONE
TZID:"UTC"
BEGIN:STANDARD
TZOFFSETFROM:+0000
TZOFFSETTO:+0000
TZNAME:UTC
DTSTART:20210101T000000
END:STANDARD
END:VTIMEZONE
BEGIN:VEVENT
DTSTART;TZID="UTC":20211024T090000
DTEND;TZID="UTC":20211024T100000
DTSTAMP:20260420T112934
CREATED:20211011T122932Z
LAST-MODIFIED:20211011T122932Z
UID:42822-1635066000-1635069600@www.urbanfit-erfurt.de
SUMMARY:FunctionalFit Level I / II
DESCRIPTION:Komm vorbei und entdecke mit uns gemeinsam den Spaß am Outdoortraining!\n\nBeim ersten Training kannst du dir einen Eindruck verschaffen\, wie du in deiner Stadt deine Topform findest!\n\nAlso keine Scheu …egal ob jung oder alt\, bereits fit oder noch ein Sportmuffel…unser Training bringt jedermann in Form!\n\nFür eine Kursgebühr von 7\,50 € pro Einheit feilen wir 60 Minuten lang mit Euch an allen Techniken eures Trainings.\n\nUrbanFit-Erfurt freut sich auf Euch!\n\nDEINE STADT – DEIN TRAINING\n\nwww.urbanfit-erfurt.de
URL:https://www.urbanfit-erfurt.de/event/functionalfit-level-i-ii-180/
LOCATION:Gutenberg-Gymnasium\, Gutenbergplatz 6\, Erfurt\, 99092\, Germany
END:VEVENT
END:VCALENDAR