BEGIN:VCALENDAR
VERSION:2.0
PRODID:-//URBANFIT ERFURT - ECPv4.9.4//NONSGML v1.0//EN
CALSCALE:GREGORIAN
METHOD:PUBLISH
X-WR-CALNAME:URBANFIT ERFURT
X-ORIGINAL-URL:https://www.urbanfit-erfurt.de
X-WR-CALDESC:Veranstaltungen im URBANFIT ERFURT
BEGIN:VTIMEZONE
TZID:"Europe/Helsinki"
BEGIN:DAYLIGHT
TZOFFSETFROM:+0200
TZOFFSETTO:+0300
TZNAME:EEST
DTSTART:20190331T010000
END:DAYLIGHT
BEGIN:STANDARD
TZOFFSETFROM:+0300
TZOFFSETTO:+0200
TZNAME:EET
DTSTART:20191027T010000
END:STANDARD
END:VTIMEZONE
BEGIN:VEVENT
DTSTART;TZID="Europe/Helsinki":20190228T183000
DTEND;TZID="Europe/Helsinki":20190228T193000
DTSTAMP:20260424T084338
CREATED:20180328T050115Z
LAST-MODIFIED:20190220T084502Z
UID:15325-1551378600-1551382200@www.urbanfit-erfurt.de
SUMMARY:FunctionalFit Level I / II
DESCRIPTION:Komm vorbei und entdecke mit uns gemeinsam den Spaß am Outdoortraining!\n\nBeim ersten Training kannst du dir einen Eindruck verschaffen\, wie du in deiner Stadt deine Topform findest!\n\nAlso keine Scheu …egal ob jung oder alt\, bereits fit oder noch ein Sportmuffel…unser Training bringt jedermann in Form!\n\nFür eine Kursgebühr von 7\,50 € feilen wir mit Euch an allen Techniken eures Trainings.\n\nUrbanFit-Erfurt freut sich auf Euch!\n\nDEINE STADT – DEIN TRAINING\nhttp://www.urbanfit-erfurt.de\n#Personaltrainer\n#Personaltraining\n#AlexanderBube
URL:https://www.urbanfit-erfurt.de/event/functionalfit-level-i-16/
LOCATION:Thüringenhalle\, Werner-Seelenbinder-Straße 2\, Erfurt\, 99096\, Germany
ATTACH;FMTTYPE=image/jpeg:https://www.urbanfit-erfurt.de/wp-content/uploads/861ab7ab1f3f4a328789d983600b06bc-1.jpg
END:VEVENT
END:VCALENDAR