BEGIN:VCALENDAR
VERSION:2.0
PRODID:-//URBANFIT ERFURT - ECPv4.9.4//NONSGML v1.0//EN
CALSCALE:GREGORIAN
METHOD:PUBLISH
X-WR-CALNAME:URBANFIT ERFURT
X-ORIGINAL-URL:https://www.urbanfit-erfurt.de
X-WR-CALDESC:Veranstaltungen im URBANFIT ERFURT
BEGIN:VTIMEZONE
TZID:"Europe/Helsinki"
BEGIN:DAYLIGHT
TZOFFSETFROM:+0200
TZOFFSETTO:+0300
TZNAME:EEST
DTSTART:20190331T010000
END:DAYLIGHT
BEGIN:STANDARD
TZOFFSETFROM:+0300
TZOFFSETTO:+0200
TZNAME:EET
DTSTART:20191027T010000
END:STANDARD
END:VTIMEZONE
BEGIN:VEVENT
DTSTART;TZID="Europe/Helsinki":20190310T090000
DTEND;TZID="Europe/Helsinki":20190310T094500
DTSTAMP:20260422T180033
CREATED:20180313T044854Z
LAST-MODIFIED:20190304T054902Z
UID:14735-1552208400-1552211100@www.urbanfit-erfurt.de
SUMMARY:FunctionalFit Level I
DESCRIPTION:Komm vorbei und entdecke mit uns gemeinsam den Spaß am Outdoortraining!\n\nBeim ersten Training kannst du dir einen Eindruck verschaffen\, wie du in deiner Stadt deine Topform findest!\n\nAlso keine Scheu …egal ob jung oder alt\, bereits fit oder noch ein Sportmuffel…unser Training bringt jedermann in Form!\n\nFür eine Kursgebühr von 7\,50 € feilen wir pro Einheit 45 Minuten lang mit Euch an allen Techniken eures Trainings.\n\nWir freuen uns auf Euch!\n\nDEINE STADT – DEIN TRAINING\nStartseite
URL:https://www.urbanfit-erfurt.de/event/functionalfit-level-i-11/
LOCATION:Gutenbergplatz 6\, 99092 Erfurt\, Deutschland
ATTACH;FMTTYPE=image/jpeg:https://www.urbanfit-erfurt.de/wp-content/uploads/a26a80adab48807908b7c9252485a3d7-1.jpg
END:VEVENT
END:VCALENDAR