BEGIN:VCALENDAR
VERSION:2.0
PRODID:-//URBANFIT ERFURT - ECPv4.9.4//NONSGML v1.0//EN
CALSCALE:GREGORIAN
METHOD:PUBLISH
X-WR-CALNAME:URBANFIT ERFURT
X-ORIGINAL-URL:https://www.urbanfit-erfurt.de
X-WR-CALDESC:Veranstaltungen im URBANFIT ERFURT
BEGIN:VTIMEZONE
TZID:"Europe/Helsinki"
BEGIN:DAYLIGHT
TZOFFSETFROM:+0200
TZOFFSETTO:+0300
TZNAME:EEST
DTSTART:20190331T010000
END:DAYLIGHT
BEGIN:STANDARD
TZOFFSETFROM:+0300
TZOFFSETTO:+0200
TZNAME:EET
DTSTART:20191027T010000
END:STANDARD
END:VTIMEZONE
BEGIN:VEVENT
DTSTART;TZID="Europe/Helsinki":20190313T161500
DTEND;TZID="Europe/Helsinki":20190313T170000
DTSTAMP:20260423T023126
CREATED:20180408T063435Z
LAST-MODIFIED:20190309T114631Z
UID:15933-1552493700-1552496400@www.urbanfit-erfurt.de
SUMMARY:FirmenFit Teambildung
DESCRIPTION:UrbanFit-Erfurt als Partner für betriebliches Gesundheitsmanagement / Teambildung unterstützt Sie dabei\, die Gesundheit Ihrer Mitarbeiter langfristig zu erhalten oder zu verbessern.\n\nIm Rahmen unseres Firmenfitness- Kurses geht es um\nmotivierte\, gesunde Mitarbeiter\, denn diese sind das wertvollste Kapital eines Unternehmens. So ist es gerade in der heutigen Zeit\, die von Stress\, Leistungsdruck und ständig steigenden Anforderungen an die Arbeitnehmer geprägt ist\, wichtig sich um die Gesundheit seiner Angestellten zu kümmern.\n\nDie durch gesundheitliche Probleme bedingten Ausfälle in den Unternehmen steigen zunehmend\, umso wichtiger ist es dem vorzubeugen mit unserem Firmenfitnessprogramm.\n\nWas Sie erwartet:\n– Maßgeschneiderte Gesundheits-/ Bewegungskonzepte\n– Unterstützung der Gesundheit Ihrer Mitarbeiter\n– Stärkung des Immunsystems durch Bewegung im Freien\n– Fachkompetente Betreuung bei der Ausführung\n\nSie haben Fragen? UrbanFit-Erfurt hat die Antwort!\n\nSo können Sie uns kontaktieren.\n\nKontakt Details:\nE-Mail: info@urbanfit-erfurt.de\nTelefon: +49 (0) 173 699 121 5\nInternet: http://www.urbanfit-erfurt.de\n\n– Mobility-Beweglichkeit-Functional-BGM-BGF
URL:https://www.urbanfit-erfurt.de/event/firmenfit-teambildung-36/
LOCATION:Erfurt\, Erfurt\, Germany
ATTACH;FMTTYPE=image/jpeg:https://www.urbanfit-erfurt.de/wp-content/uploads/25dc901cfbf6963b7d48035478e823ae-1.jpg
END:VEVENT
END:VCALENDAR