BEGIN:VCALENDAR
VERSION:2.0
PRODID:-//URBANFIT ERFURT - ECPv4.9.4//NONSGML v1.0//EN
CALSCALE:GREGORIAN
METHOD:PUBLISH
X-WR-CALNAME:URBANFIT ERFURT
X-ORIGINAL-URL:https://www.urbanfit-erfurt.de
X-WR-CALDESC:Veranstaltungen im URBANFIT ERFURT
BEGIN:VTIMEZONE
TZID:"UTC"
BEGIN:STANDARD
TZOFFSETFROM:+0000
TZOFFSETTO:+0000
TZNAME:UTC
DTSTART:20240101T000000
END:STANDARD
END:VTIMEZONE
BEGIN:VEVENT
DTSTART;VALUE=DATE:20240126
DTEND;VALUE=DATE:20240127
DTSTAMP:20260420T012414
CREATED:20231208T182913Z
LAST-MODIFIED:20231208T182913Z
UID:46347-1706227200-1706313599@www.urbanfit-erfurt.de
SUMMARY:Die RückenFit-Rückenschule AB MÄRZ WIEDER FÜR EUCH DA
DESCRIPTION:
URL:https://www.urbanfit-erfurt.de/event/die-rueckenfit-rueckenschule-ab-maerz-wieder-fuer-euch-da-5/
END:VEVENT
END:VCALENDAR