BEGIN:VCALENDAR
VERSION:2.0
PRODID:-//URBANFIT ERFURT - ECPv4.9.4//NONSGML v1.0//EN
CALSCALE:GREGORIAN
METHOD:PUBLISH
X-WR-CALNAME:URBANFIT ERFURT
X-ORIGINAL-URL:https://www.urbanfit-erfurt.de
X-WR-CALDESC:Veranstaltungen im URBANFIT ERFURT
BEGIN:VTIMEZONE
TZID:"Europe/Helsinki"
BEGIN:DAYLIGHT
TZOFFSETFROM:+0200
TZOFFSETTO:+0300
TZNAME:EEST
DTSTART:20190331T010000
END:DAYLIGHT
BEGIN:STANDARD
TZOFFSETFROM:+0300
TZOFFSETTO:+0200
TZNAME:EET
DTSTART:20191027T010000
END:STANDARD
END:VTIMEZONE
BEGIN:VEVENT
DTSTART;TZID="Europe/Helsinki":20190308T190000
DTEND;TZID="Europe/Helsinki":20190308T200000
DTSTAMP:20260420T191929
CREATED:20180311T080516Z
LAST-MODIFIED:20190301T110052Z
UID:14674-1552071600-1552075200@www.urbanfit-erfurt.de
SUMMARY:Calisthenics Level I
DESCRIPTION:Komm vorbei und entdecke mit uns gemeinsam den Spaß am Outdoortraining mit UrbanFit!\n\nBeim ersten Training kannst du dir einen Eindruck verschaffen\, wie du in deiner Stadt deine Topform findest!\n\nAlso keine Scheu …egal ob jung oder alt\, bereits fit oder noch ein Sportmuffel…unser Training bringt jedermann in Form!\n\nDEINE STADT – DEIN TRAINING
URL:https://www.urbanfit-erfurt.de/event/calisthenics-level-i-95-2/
LOCATION:Parkstraße 1\, 99096 Erfurt\, Parkstraße 1\, 99096 Erfurt\, Deutschland
ATTACH;FMTTYPE=image/jpeg:https://www.urbanfit-erfurt.de/wp-content/uploads/ab58a36e126ef9f91e3ceb7da236c3f3-1.jpg
END:VEVENT
END:VCALENDAR