BEGIN:VCALENDAR
VERSION:2.0
PRODID:-//URBANFIT ERFURT - ECPv4.9.4//NONSGML v1.0//EN
CALSCALE:GREGORIAN
METHOD:PUBLISH
X-WR-CALNAME:URBANFIT ERFURT
X-ORIGINAL-URL:https://www.urbanfit-erfurt.de
X-WR-CALDESC:Veranstaltungen im URBANFIT ERFURT
BEGIN:VTIMEZONE
TZID:"UTC"
BEGIN:STANDARD
TZOFFSETFROM:+0000
TZOFFSETTO:+0000
TZNAME:UTC
DTSTART:20230101T000000
END:STANDARD
END:VTIMEZONE
BEGIN:VEVENT
DTSTART;TZID="UTC":20231007T090000
DTEND;TZID="UTC":20231007T100000
DTSTAMP:20260420T061134
CREATED:20230903T085906Z
LAST-MODIFIED:20230903T085906Z
UID:45935-1696669200-1696672800@www.urbanfit-erfurt.de
SUMMARY:ACHTUNG...ENDE DER Battle Rope SAISON (Fit mit dem Wilden Seil)
DESCRIPTION:ANMELDUNG GEGEN VORKASSE\nPreis pro Trainingseinheit und Teilnehmer: 11\,00 €\n\nBei Nichtteilnahme zum angemeldeten Kurs erfolgt KEINE Rückerstattung der Kursgebühr.\n\nDas intensive und facettenreiche Tautraining mit Seilen aus Kunsthanf oder Polyester\, kombiniert bei jeder Übung mehrere Aspekte: Kraft\, Koordination\, Gleichgewicht und Stabilität im ganzen Körper – zudem ist der Spaßfaktor riesig. \n\nWas erwartet Euch: \n\n– Taue von 12-20 Meter Länge\n– Aktivierung des Fettstoffwechsels \n– Aktivierung des Herz-Kreislaufsystems\n– intensive Stärkung der Arm-\, Rücken- und Beinmuskulatur sowie die des Rumpfes\n– Anpassung der Belastung an das jeweilige Leistungsniveau\n– gelenkschonendes Kraft-Ausdauertraining\n– geeignet zur Verletzungsprophylaxe / Reha-Maßnahme\n– direkte Korrektur während der Übung durch einen UrbanFit-Trainer\n\nWir zeigen dir\, wie du das Seil effektiv und gesund nutzen kannst. Ob Einsteiger oder Fortgeschrittene\, Battle Rope Training ist für jeden etwas!
URL:https://www.urbanfit-erfurt.de/event/achtung-ende-der-battle-rope-saison-fit-mit-dem-wilden-seil/
LOCATION:Basketballplatz im Nordpark\, Erfurt\, Erurt\, Deutschland
END:VEVENT
END:VCALENDAR