BEGIN:VCALENDAR
VERSION:2.0
PRODID:-//URBANFIT ERFURT - ECPv4.9.4//NONSGML v1.0//EN
CALSCALE:GREGORIAN
METHOD:PUBLISH
X-WR-CALNAME:URBANFIT ERFURT
X-ORIGINAL-URL:https://www.urbanfit-erfurt.de
X-WR-CALDESC:Veranstaltungen im URBANFIT ERFURT
BEGIN:VTIMEZONE
TZID:"UTC"
BEGIN:STANDARD
TZOFFSETFROM:+0000
TZOFFSETTO:+0000
TZNAME:UTC
DTSTART:20210101T000000
END:STANDARD
END:VTIMEZONE
BEGIN:VEVENT
DTSTART;VALUE=DATE:20210131
DTEND;VALUE=DATE:20210201
DTSTAMP:20260419T120854
CREATED:20210106T124415Z
LAST-MODIFIED:20210106T124415Z
UID:41965-1612051200-1612137599@www.urbanfit-erfurt.de
SUMMARY:Abgesagt Voll-Lockdown
DESCRIPTION:Training in der Natur.\n\nHinter Calisthenics steckt die Verlagerung des Trainings in die Natur. Der eigenen Kreativität sind da kaum Grenzen gesetzt. Calisthenics ist ein Trainingsprogramm\, das auf spezielles Equipment verzichtet. Muskelaufbau ohne Hanteln\, schwere Gewichte oder Kettlebells. Mit Ausnahme von Gewichtswesten wird mit dem eigenen Körpergewicht trainiert.\n\nKniebeugen\, Liegestütze und Klimmzüge sind die grundlegenden Übungen.\n\nCalisthenics fördert die motorischen Fähigkeiten\, den Muskelaufbau\, die Ausdauer und sorgt für Kraft in der jeweiligen Bewegung. Um eine Leistungssteigerung zu gewährleisten\, erschwert man beim Calisthenics das Training durch die Veränderung des Schwierigkeitsgrades in den Übungen (z.B. von Klimmzug zum einarmigen Klimmzug)\, durch explosive Übungsausführung oder der Aneinanderreihung einzelner Übungen (Supersätze).\n\nDEINE STADT – DEIN TRAINING
URL:https://www.urbanfit-erfurt.de/event/abgesagt-voll-lockdown-21/
LOCATION:Sonnenuhrspielplatz Erfurt\, Fuchsgrund 27\, Erfurt\, 99089
END:VEVENT
END:VCALENDAR