BEGIN:VCALENDAR
VERSION:2.0
PRODID:-//URBANFIT ERFURT - ECPv4.9.4//NONSGML v1.0//EN
CALSCALE:GREGORIAN
METHOD:PUBLISH
X-WR-CALNAME:URBANFIT ERFURT
X-ORIGINAL-URL:https://www.urbanfit-erfurt.de
X-WR-CALDESC:Veranstaltungen im URBANFIT ERFURT
BEGIN:VTIMEZONE
TZID:"UTC"
BEGIN:STANDARD
TZOFFSETFROM:+0000
TZOFFSETTO:+0000
TZNAME:UTC
DTSTART:20210101T000000
END:STANDARD
END:VTIMEZONE
BEGIN:VEVENT
DTSTART;VALUE=DATE:20210130
DTEND;VALUE=DATE:20210131
DTSTAMP:20260423T090714
CREATED:20210106T124126Z
LAST-MODIFIED:20210106T124139Z
UID:41963-1611964800-1612051199@www.urbanfit-erfurt.de
SUMMARY:Abgesagt Voll-Lockdown
DESCRIPTION:Das UrbanFit-Lauftraining für Jedermann.\n\nNatürlich gibt es 1000 Gründe die dafür sprechen endlich mit dem Laufen zu beginnen oder es ganz und gar regelmäßig zu betreiben. Steigerung der Lebenserwartung\, Stärkung des Herz- Kreislaufsystems\, Ankurbeln des Fettstoffwechsels\, Stressabbau und Erhöhung der Lebensqualität.\n\nUrbanFit-Erfurt steht Dir mit Fachkompetenz und nützlichen Tipps zur Seite. Ob als Einstieg zum Hobbyläufer\, in Vorbereitung auf einen Firmenlauf oder auch Betreuung bis zum anstehenden Marathon.\n\nWir begleiten Dich auf deinem Weg!\n\nWir bieten Dir: \n– Verbesserung bzw. Optimierung deines Laufstils\n– kraftsparendes Laufen durch die richtige Körperhaltung\n– Verringerung der Bremswirkung durch richtiges \n  Aufsetzen der Füße\n– Lauf-ABC \n– maximal 6km Laufstrecke \n\nDEINE STADT – DEIN TRAINING \nUF Alexander Bube Personaltrainer Erfurt
URL:https://www.urbanfit-erfurt.de/event/abgesagt-voll-lockdown-20/
LOCATION:egapark Erfurt\, Egapark charging station\, 38\, Gothaer Str.\, 99094 Erfurt\, Erfurt\, Thüringen\, 99094
END:VEVENT
END:VCALENDAR