BEGIN:VCALENDAR
VERSION:2.0
PRODID:-//URBANFIT ERFURT - ECPv4.9.4//NONSGML v1.0//EN
CALSCALE:GREGORIAN
METHOD:PUBLISH
X-WR-CALNAME:URBANFIT ERFURT
X-ORIGINAL-URL:https://www.urbanfit-erfurt.de
X-WR-CALDESC:Veranstaltungen im URBANFIT ERFURT
BEGIN:VTIMEZONE
TZID:"UTC"
BEGIN:STANDARD
TZOFFSETFROM:+0000
TZOFFSETTO:+0000
TZNAME:UTC
DTSTART:20210101T000000
END:STANDARD
END:VTIMEZONE
BEGIN:VEVENT
DTSTART;VALUE=DATE:20210426
DTEND;VALUE=DATE:20210427
DTSTAMP:20260423T060133
CREATED:20210504T155442Z
LAST-MODIFIED:20210504T155442Z
UID:42149-1619395200-1619481599@www.urbanfit-erfurt.de
SUMMARY:Abgesagt Lockdown
DESCRIPTION:Outdoortraining inklusive Sightseeing\n\nUrbanFit-Erfurt macht Dich im Outdoortraining topfit und ganz nebenbei entdecken wir gemeinsam die schönsten Ecken Deiner Stadt! \n\nEine Tolle Kombination!\n\nKomm vorbei und entdecke mit UrbanFit den Spaß am Outdoortraining!\n\nAlso keine Scheu …egal ob jung oder alt\, bereits fit oder noch ein Sportmuffel…unser Training bringt jedermann in Form! \n\nDEINE STADT – DEIN TRAINING \n#PersonaltrainerErfurt #PersonaltrainingErfurt
URL:https://www.urbanfit-erfurt.de/event/abgesagt-lockdown-25/
LOCATION:Berlstedt\, Deutschland
END:VEVENT
END:VCALENDAR